Package: ssviz Version: 1.38.0 Command: /home/biocbuild/bbs-3.19-bioc/R/bin/R CMD INSTALL ssviz StartedAt: 2024-10-16 16:07:13 -0400 (Wed, 16 Oct 2024) EndedAt: 2024-10-16 16:07:27 -0400 (Wed, 16 Oct 2024) EllapsedTime: 14.1 seconds RetCode: 0 Status: OK