Package: standR Version: 1.8.0 Command: rm -rf standR.buildbin-libdir && mkdir standR.buildbin-libdir && /Users/biocbuild/BBS/utils/build-universal.sh standR_1.8.0.tar.gz /Library/Frameworks/R.framework/Resources/bin/R standR.buildbin-libdir StartedAt: 2024-10-15 20:30:24 -0400 (Tue, 15 Oct 2024) EndedAt: 2024-10-15 20:31:01 -0400 (Tue, 15 Oct 2024) EllapsedTime: 36.4 seconds RetCode: 0 Status: OK PackageFile: standR_1.8.0.tgz PackageFileSize: 3.117 MiB