Package: standR Version: 1.8.0 Command: rm -rf standR.buildbin-libdir && mkdir standR.buildbin-libdir && /Users/biocbuild/BBS/utils/build-universal.sh standR_1.8.0.tar.gz /Library/Frameworks/R.framework/Resources/bin/R standR.buildbin-libdir StartedAt: 2024-10-17 17:18:13 -0400 (Thu, 17 Oct 2024) EndedAt: 2024-10-17 17:19:17 -0400 (Thu, 17 Oct 2024) EllapsedTime: 64.0 seconds RetCode: 0 Status: OK PackageFile: standR_1.8.0.tgz PackageFileSize: 3.087 MiB