Package: standR Version: 1.8.0 Command: chmod a+r standR -R && F:\biocbuild\bbs-3.19-bioc\R\bin\R.exe CMD build --keep-empty-dirs --no-resave-data standR StartedAt: 2024-06-26 22:14:01 -0400 (Wed, 26 Jun 2024) EndedAt: 2024-06-26 22:16:04 -0400 (Wed, 26 Jun 2024) EllapsedTime: 123.4 seconds RetCode: 0 Status: OK PackageFile: standR_1.8.0.tar.gz PackageFileSize: 2.002 MiB