Package: standR Version: 1.8.0 Command: rm -rf standR.buildbin-libdir && mkdir standR.buildbin-libdir && E:\biocbuild\bbs-3.19-bioc\R\bin\R.exe CMD INSTALL --build --library=standR.buildbin-libdir standR_1.8.0.tar.gz StartedAt: 2024-10-17 08:44:05 -0400 (Thu, 17 Oct 2024) EndedAt: 2024-10-17 08:44:42 -0400 (Thu, 17 Oct 2024) EllapsedTime: 36.6 seconds RetCode: 0 Status: OK PackageFile: standR_1.8.0.zip PackageFileSize: 2.111 MiB