Package: strandCheckR Version: 1.22.0 Command: /Library/Frameworks/R.framework/Resources/bin/R CMD build --keep-empty-dirs --no-resave-data strandCheckR StartedAt: 2024-10-17 10:13:57 -0400 (Thu, 17 Oct 2024) EndedAt: 2024-10-17 10:15:11 -0400 (Thu, 17 Oct 2024) EllapsedTime: 74.2 seconds RetCode: 0 Status: OK PackageFile: strandCheckR_1.22.0.tar.gz PackageFileSize: 1.211 MiB