Package: strandCheckR Version: 1.22.0 Command: /home/biocbuild/R/R-beta-2024-04-15_r86425/bin/R CMD check --install=check:strandCheckR.install-out.txt --library=/home/biocbuild/R/R-beta-2024-04-15_r86425/site-library --no-vignettes --timings strandCheckR_1.22.0.tar.gz StartedAt: 2024-05-08 12:25:58 -0000 (Wed, 08 May 2024) EndedAt: 2024-05-08 12:31:38 -0000 (Wed, 08 May 2024) EllapsedTime: 339.6 seconds RetCode: 0 Status: OK CheckDir: strandCheckR.Rcheck Warnings: 0