Package: strandCheckR Version: 1.22.0 Command: rm -rf strandCheckR.buildbin-libdir && mkdir strandCheckR.buildbin-libdir && /Users/biocbuild/BBS/utils/build-universal.sh strandCheckR_1.22.0.tar.gz /Library/Frameworks/R.framework/Resources/bin/R strandCheckR.buildbin-libdir StartedAt: 2024-10-17 17:18:30 -0400 (Thu, 17 Oct 2024) EndedAt: 2024-10-17 17:19:58 -0400 (Thu, 17 Oct 2024) EllapsedTime: 87.4 seconds RetCode: 0 Status: OK PackageFile: strandCheckR_1.22.0.tgz PackageFileSize: 1.294 MiB