Package: strandCheckR Version: 1.22.0 Command: /Library/Frameworks/R.framework/Resources/bin/R CMD build --keep-empty-dirs --no-resave-data strandCheckR StartedAt: 2024-10-16 23:46:56 -0400 (Wed, 16 Oct 2024) EndedAt: 2024-10-16 23:49:18 -0400 (Wed, 16 Oct 2024) EllapsedTime: 142.4 seconds RetCode: 0 Status: OK PackageFile: strandCheckR_1.22.0.tar.gz PackageFileSize: 1.211 MiB