Package: strandCheckR Version: 1.22.0 Command: /home/biocbuild/bbs-3.19-bioc/R/bin/R CMD build --keep-empty-dirs --no-resave-data strandCheckR StartedAt: 2024-10-16 21:03:37 -0400 (Wed, 16 Oct 2024) EndedAt: 2024-10-16 21:04:36 -0400 (Wed, 16 Oct 2024) EllapsedTime: 59.1 seconds RetCode: 0 Status: OK PackageFile: strandCheckR_1.22.0.tar.gz PackageFileSize: 1.11 MiB