Package: strandCheckR Version: 1.22.0 Command: chmod a+r strandCheckR -R && F:\biocbuild\bbs-3.19-bioc\R\bin\R.exe CMD build --keep-empty-dirs --no-resave-data strandCheckR StartedAt: 2024-06-26 22:14:56 -0400 (Wed, 26 Jun 2024) EndedAt: 2024-06-26 22:16:11 -0400 (Wed, 26 Jun 2024) EllapsedTime: 74.3 seconds RetCode: 0 Status: OK PackageFile: strandCheckR_1.22.0.tar.gz PackageFileSize: 848.9 KiB