Package: strandCheckR Version: 1.22.0 Command: F:\biocbuild\bbs-3.19-bioc\R\bin\R.exe CMD INSTALL strandCheckR StartedAt: 2024-06-26 16:15:02 -0400 (Wed, 26 Jun 2024) EndedAt: 2024-06-26 16:15:50 -0400 (Wed, 26 Jun 2024) EllapsedTime: 47.7 seconds RetCode: 0 Status: OK