Package: strandCheckR Version: 1.22.0 Command: rm -rf strandCheckR.buildbin-libdir && mkdir strandCheckR.buildbin-libdir && E:\biocbuild\bbs-3.19-bioc\R\bin\R.exe CMD INSTALL --build --library=strandCheckR.buildbin-libdir strandCheckR_1.22.0.tar.gz StartedAt: 2024-10-17 08:44:22 -0400 (Thu, 17 Oct 2024) EndedAt: 2024-10-17 08:45:18 -0400 (Thu, 17 Oct 2024) EllapsedTime: 56.5 seconds RetCode: 0 Status: OK PackageFile: strandCheckR_1.22.0.zip PackageFileSize: 935.6 KiB