Package: strandCheckR Version: 1.22.0 Command: chmod a+r strandCheckR -R && E:\biocbuild\bbs-3.19-bioc\R\bin\R.exe CMD build --keep-empty-dirs --no-resave-data strandCheckR StartedAt: 2024-10-16 22:13:29 -0400 (Wed, 16 Oct 2024) EndedAt: 2024-10-16 22:14:43 -0400 (Wed, 16 Oct 2024) EllapsedTime: 74.4 seconds RetCode: 0 Status: OK PackageFile: strandCheckR_1.22.0.tar.gz PackageFileSize: 848.9 KiB