Package: supraHex Version: 1.42.0 Command: /home/biocbuild/R/R-beta-2024-04-15_r86425/bin/R CMD INSTALL supraHex StartedAt: 2024-05-08 20:31:57 -0000 (Wed, 08 May 2024) EndedAt: 2024-05-08 20:32:08 -0000 (Wed, 08 May 2024) EllapsedTime: 11.7 seconds RetCode: 0 Status: OK