Package: survcomp Version: 1.54.0 Command: /home/biocbuild/R/R-beta-2024-04-15_r86425/bin/R CMD build --keep-empty-dirs --no-resave-data survcomp StartedAt: 2024-05-09 03:59:45 -0000 (Thu, 09 May 2024) EndedAt: 2024-05-09 04:00:07 -0000 (Thu, 09 May 2024) EllapsedTime: 22.0 seconds RetCode: 0 Status: OK PackageFile: survcomp_1.54.0.tar.gz PackageFileSize: 634.1 KiB