Package: survcomp Version: 1.54.0 Command: rm -rf survcomp.buildbin-libdir && mkdir survcomp.buildbin-libdir && /Users/biocbuild/BBS/utils/build-universal.sh survcomp_1.54.0.tar.gz /Library/Frameworks/R.framework/Resources/bin/R survcomp.buildbin-libdir StartedAt: 2024-10-17 17:19:10 -0400 (Thu, 17 Oct 2024) EndedAt: 2024-10-17 17:19:40 -0400 (Thu, 17 Oct 2024) EllapsedTime: 30.5 seconds RetCode: 0 Status: OK PackageFile: survcomp_1.54.0.tgz PackageFileSize: 828.4 KiB