Package: survcomp Version: 1.54.0 Command: /Library/Frameworks/R.framework/Resources/bin/R CMD build --keep-empty-dirs --no-resave-data survcomp StartedAt: 2024-10-16 23:50:13 -0400 (Wed, 16 Oct 2024) EndedAt: 2024-10-16 23:51:05 -0400 (Wed, 16 Oct 2024) EllapsedTime: 51.5 seconds RetCode: 0 Status: OK PackageFile: survcomp_1.54.0.tar.gz PackageFileSize: 638 KiB