Package: svaNUMT Version: 1.10.0 Command: /home/biocbuild/bbs-3.19-bioc/R/bin/R CMD build --keep-empty-dirs --no-resave-data svaNUMT StartedAt: 2024-10-16 21:05:51 -0400 (Wed, 16 Oct 2024) EndedAt: 2024-10-16 21:07:02 -0400 (Wed, 16 Oct 2024) EllapsedTime: 70.1 seconds RetCode: 0 Status: OK PackageFile: svaNUMT_1.10.0.tar.gz PackageFileSize: 732.7 KiB