Package: svaRetro Version: 1.10.0 Command: /Library/Frameworks/R.framework/Resources/bin/R CMD build --keep-empty-dirs --no-resave-data svaRetro StartedAt: 2024-06-10 05:43:51 -0400 (Mon, 10 Jun 2024) EndedAt: 2024-06-10 05:45:41 -0400 (Mon, 10 Jun 2024) EllapsedTime: 110.0 seconds RetCode: 0 Status: OK PackageFile: svaRetro_1.10.0.tar.gz PackageFileSize: 1.533 MiB