Package: svaRetro Version: 1.10.0 Command: rm -rf svaRetro.buildbin-libdir && mkdir svaRetro.buildbin-libdir && F:\biocbuild\bbs-3.19-bioc\R\bin\R.exe CMD INSTALL --build --library=svaRetro.buildbin-libdir svaRetro_1.10.0.tar.gz StartedAt: 2024-06-27 09:01:04 -0400 (Thu, 27 Jun 2024) EndedAt: 2024-06-27 09:02:14 -0400 (Thu, 27 Jun 2024) EllapsedTime: 70.8 seconds RetCode: 0 Status: OK PackageFile: svaRetro_1.10.0.zip PackageFileSize: 1.467 MiB