Package: svaRetro Version: 1.10.0 Command: E:\biocbuild\bbs-3.19-bioc\R\bin\R.exe CMD INSTALL svaRetro StartedAt: 2024-10-16 16:36:05 -0400 (Wed, 16 Oct 2024) EndedAt: 2024-10-16 16:36:50 -0400 (Wed, 16 Oct 2024) EllapsedTime: 44.2 seconds RetCode: 0 Status: OK