Package: switchde Version: 1.30.0 Command: /Library/Frameworks/R.framework/Resources/bin/R CMD INSTALL switchde StartedAt: 2024-10-16 16:02:28 -0400 (Wed, 16 Oct 2024) EndedAt: 2024-10-16 16:02:57 -0400 (Wed, 16 Oct 2024) EllapsedTime: 28.9 seconds RetCode: 0 Status: OK