Package: switchde Version: 1.30.0 Command: /home/biocbuild/R/R-beta-2024-04-15_r86425/bin/R CMD build --keep-empty-dirs --no-resave-data switchde StartedAt: 2024-05-09 04:01:01 -0000 (Thu, 09 May 2024) EndedAt: 2024-05-09 04:01:55 -0000 (Thu, 09 May 2024) EllapsedTime: 54.1 seconds RetCode: 0 Status: OK PackageFile: switchde_1.30.0.tar.gz PackageFileSize: 649.4 KiB