Package: switchde Version: 1.30.0 Command: /home/biocbuild/bbs-3.19-bioc/R/bin/R CMD build --keep-empty-dirs --no-resave-data switchde StartedAt: 2024-10-16 21:06:26 -0400 (Wed, 16 Oct 2024) EndedAt: 2024-10-16 21:07:04 -0400 (Wed, 16 Oct 2024) EllapsedTime: 37.1 seconds RetCode: 0 Status: OK PackageFile: switchde_1.30.0.tar.gz PackageFileSize: 970 KiB