Package: switchde Version: 1.30.0 Command: chmod a+r switchde -R && F:\biocbuild\bbs-3.19-bioc\R\bin\R.exe CMD build --keep-empty-dirs --no-resave-data switchde StartedAt: 2024-06-26 22:18:03 -0400 (Wed, 26 Jun 2024) EndedAt: 2024-06-26 22:18:54 -0400 (Wed, 26 Jun 2024) EllapsedTime: 50.8 seconds RetCode: 0 Status: OK PackageFile: switchde_1.30.0.tar.gz PackageFileSize: 489.3 KiB