Package: switchde Version: 1.30.0 Command: rm -rf switchde.buildbin-libdir && mkdir switchde.buildbin-libdir && E:\biocbuild\bbs-3.19-bioc\R\bin\R.exe CMD INSTALL --build --library=switchde.buildbin-libdir switchde_1.30.0.tar.gz StartedAt: 2024-10-17 08:45:14 -0400 (Thu, 17 Oct 2024) EndedAt: 2024-10-17 08:45:44 -0400 (Thu, 17 Oct 2024) EllapsedTime: 30.2 seconds RetCode: 0 Status: OK PackageFile: switchde_1.30.0.zip PackageFileSize: 536.1 KiB