Package: synapter Version: 2.28.0 Command: /Library/Frameworks/R.framework/Resources/bin/R CMD build --keep-empty-dirs --no-resave-data synapter StartedAt: 2024-10-16 23:51:51 -0400 (Wed, 16 Oct 2024) EndedAt: 2024-10-17 00:08:38 -0400 (Thu, 17 Oct 2024) EllapsedTime: 1007.4 seconds RetCode: 0 Status: OK PackageFile: synapter_2.28.0.tar.gz PackageFileSize: 4.635 MiB