Package: synapter Version: 2.28.0 Command: rm -rf synapter.buildbin-libdir && mkdir synapter.buildbin-libdir && F:\biocbuild\bbs-3.19-bioc\R\bin\R.exe CMD INSTALL --build --library=synapter.buildbin-libdir synapter_2.28.0.tar.gz StartedAt: 2024-06-27 09:01:19 -0400 (Thu, 27 Jun 2024) EndedAt: 2024-06-27 09:02:44 -0400 (Thu, 27 Jun 2024) EllapsedTime: 84.4 seconds RetCode: 0 Status: OK PackageFile: synapter_2.28.0.zip PackageFileSize: 3.622 MiB