Package: systemPipeR Version: 2.10.0 Command: /home/biocbuild/R/R-beta-2024-04-15_r86425/bin/R CMD build --keep-empty-dirs --no-resave-data systemPipeR StartedAt: 2024-05-09 04:01:59 -0000 (Thu, 09 May 2024) EndedAt: 2024-05-09 04:03:54 -0000 (Thu, 09 May 2024) EllapsedTime: 115.2 seconds RetCode: 0 Status: OK PackageFile: systemPipeR_2.10.0.tar.gz PackageFileSize: 7.444 MiB