Package: systemPipeR Version: 2.10.0 Command: /Library/Frameworks/R.framework/Resources/bin/R CMD build --keep-empty-dirs --no-resave-data systemPipeR StartedAt: 2024-10-16 23:52:48 -0400 (Wed, 16 Oct 2024) EndedAt: 2024-10-16 23:56:29 -0400 (Wed, 16 Oct 2024) EllapsedTime: 220.2 seconds RetCode: 0 Status: OK PackageFile: systemPipeR_2.10.0.tar.gz PackageFileSize: 7.096 MiB