Package: tLOH Version: 1.12.0 Command: chmod a+r tLOH -R && F:\biocbuild\bbs-3.19-bioc\R\bin\R.exe CMD build --keep-empty-dirs --no-resave-data tLOH StartedAt: 2024-06-26 22:23:45 -0400 (Wed, 26 Jun 2024) EndedAt: 2024-06-26 22:25:15 -0400 (Wed, 26 Jun 2024) EllapsedTime: 89.9 seconds RetCode: 0 Status: OK PackageFile: tLOH_1.12.0.tar.gz PackageFileSize: 1.732 MiB