Package: tRNAdbImport Version: 1.22.0 Command: E:\biocbuild\bbs-3.19-bioc\R\bin\R.exe CMD INSTALL tRNAdbImport StartedAt: 2024-10-16 16:26:37 -0400 (Wed, 16 Oct 2024) EndedAt: 2024-10-16 16:27:01 -0400 (Wed, 16 Oct 2024) EllapsedTime: 23.7 seconds RetCode: 0 Status: OK