Package: tRanslatome Version: 1.42.0 Command: /Library/Frameworks/R.framework/Resources/bin/R CMD build --keep-empty-dirs --no-resave-data tRanslatome StartedAt: 2024-06-10 06:07:15 -0400 (Mon, 10 Jun 2024) EndedAt: 2024-06-10 06:09:30 -0400 (Mon, 10 Jun 2024) EllapsedTime: 134.9 seconds RetCode: 0 Status: OK PackageFile: tRanslatome_1.42.0.tar.gz PackageFileSize: 935.8 KiB