Package: tRanslatome Version: 1.42.0 Command: /Library/Frameworks/R.framework/Resources/bin/R CMD INSTALL tRanslatome StartedAt: 2024-10-16 16:25:36 -0400 (Wed, 16 Oct 2024) EndedAt: 2024-10-16 16:27:12 -0400 (Wed, 16 Oct 2024) EllapsedTime: 95.3 seconds RetCode: 0 Status: OK