Package: tRanslatome Version: 1.42.0 Command: /home/biocbuild/bbs-3.19-bioc/R/bin/R CMD build --keep-empty-dirs --no-resave-data tRanslatome StartedAt: 2024-10-16 21:13:42 -0400 (Wed, 16 Oct 2024) EndedAt: 2024-10-16 21:15:02 -0400 (Wed, 16 Oct 2024) EllapsedTime: 80.2 seconds RetCode: 0 Status: OK PackageFile: tRanslatome_1.42.0.tar.gz PackageFileSize: 811.4 KiB