Package: tRanslatome Version: 1.42.0 Command: E:\biocbuild\bbs-3.19-bioc\R\bin\R.exe CMD INSTALL tRanslatome StartedAt: 2024-10-16 17:03:43 -0400 (Wed, 16 Oct 2024) EndedAt: 2024-10-16 17:05:14 -0400 (Wed, 16 Oct 2024) EllapsedTime: 91.2 seconds RetCode: 0 Status: OK