Package: tadar Version: 1.2.1 Command: /Library/Frameworks/R.framework/Resources/bin/R CMD check --install=check:tadar.install-out.txt --library=/Library/Frameworks/R.framework/Resources/library --no-vignettes --timings tadar_1.2.1.tar.gz StartedAt: 2024-10-18 14:42:36 -0400 (Fri, 18 Oct 2024) EndedAt: 2024-10-18 14:52:52 -0400 (Fri, 18 Oct 2024) EllapsedTime: 616.6 seconds RetCode: 0 Status: OK CheckDir: tadar.Rcheck Warnings: 0