Package: tadar Version: 1.2.0 Command: /Library/Frameworks/R.framework/Resources/bin/R CMD build --keep-empty-dirs --no-resave-data tadar StartedAt: 2024-06-09 18:23:58 -0400 (Sun, 09 Jun 2024) EndedAt: 2024-06-09 18:25:28 -0400 (Sun, 09 Jun 2024) EllapsedTime: 89.9 seconds RetCode: 0 Status: OK PackageFile: tadar_1.2.0.tar.gz PackageFileSize: 1.689 MiB