Package: tadar Version: 1.2.0 Command: /Library/Frameworks/R.framework/Resources/bin/R CMD INSTALL tadar StartedAt: 2024-06-09 15:27:17 -0400 (Sun, 09 Jun 2024) EndedAt: 2024-06-09 15:28:21 -0400 (Sun, 09 Jun 2024) EllapsedTime: 63.4 seconds RetCode: 0 Status: OK