Package: tanggle Version: 1.10.0 Command: /Library/Frameworks/R.framework/Resources/bin/R CMD build --keep-empty-dirs --no-resave-data tanggle StartedAt: 2024-06-10 05:49:30 -0400 (Mon, 10 Jun 2024) EndedAt: 2024-06-10 05:50:06 -0400 (Mon, 10 Jun 2024) EllapsedTime: 36.3 seconds RetCode: 0 Status: OK PackageFile: tanggle_1.10.0.tar.gz PackageFileSize: 1.898 MiB