Package: tanggle Version: 1.10.0 Command: /home/biocbuild/R/R-beta-2024-04-15_r86425/bin/R CMD build --keep-empty-dirs --no-resave-data tanggle StartedAt: 2024-05-09 04:02:53 -0000 (Thu, 09 May 2024) EndedAt: 2024-05-09 04:03:24 -0000 (Thu, 09 May 2024) EllapsedTime: 31.0 seconds RetCode: 0 Status: OK PackageFile: tanggle_1.10.0.tar.gz PackageFileSize: 1.412 MiB