Package: tanggle Version: 1.10.0 Command: /home/biocbuild/R/R-beta-2024-04-15_r86425/bin/R CMD check --install=check:tanggle.install-out.txt --library=/home/biocbuild/R/R-beta-2024-04-15_r86425/site-library --no-vignettes --timings tanggle_1.10.0.tar.gz StartedAt: 2024-05-08 12:34:25 -0000 (Wed, 08 May 2024) EndedAt: 2024-05-08 12:35:18 -0000 (Wed, 08 May 2024) EllapsedTime: 53.1 seconds RetCode: 0 Status: OK CheckDir: tanggle.Rcheck Warnings: 0