Package: tanggle Version: 1.10.0 Command: /home/biocbuild/R/R-beta-2024-04-15_r86425/bin/R CMD INSTALL tanggle StartedAt: 2024-05-08 20:20:03 -0000 (Wed, 08 May 2024) EndedAt: 2024-05-08 20:20:10 -0000 (Wed, 08 May 2024) EllapsedTime: 7.0 seconds RetCode: 0 Status: OK