Package: tanggle Version: 1.10.0 Command: rm -rf tanggle.buildbin-libdir && mkdir tanggle.buildbin-libdir && F:\biocbuild\bbs-3.19-bioc\R\bin\R.exe CMD INSTALL --build --library=tanggle.buildbin-libdir tanggle_1.10.0.tar.gz StartedAt: 2024-06-27 09:01:41 -0400 (Thu, 27 Jun 2024) EndedAt: 2024-06-27 09:02:06 -0400 (Thu, 27 Jun 2024) EllapsedTime: 24.4 seconds RetCode: 0 Status: OK PackageFile: tanggle_1.10.0.zip PackageFileSize: 1.177 MiB