Package: tidySpatialExperiment Version: 1.0.0 Command: /Library/Frameworks/R.framework/Resources/bin/R CMD check --install=check:tidySpatialExperiment.install-out.txt --library=/Library/Frameworks/R.framework/Resources/library --no-vignettes --timings tidySpatialExperiment_1.0.0.tar.gz StartedAt: 2024-10-18 15:09:49 -0400 (Fri, 18 Oct 2024) EndedAt: 2024-10-18 15:15:36 -0400 (Fri, 18 Oct 2024) EllapsedTime: 347.1 seconds RetCode: 0 Status: OK CheckDir: tidySpatialExperiment.Rcheck Warnings: 0