Package: tidySpatialExperiment Version: 1.0.0 Command: /home/biocbuild/R/R-beta-2024-04-15_r86425/bin/R CMD build --keep-empty-dirs --no-resave-data tidySpatialExperiment StartedAt: 2024-05-09 04:07:07 -0000 (Thu, 09 May 2024) EndedAt: 2024-05-09 04:08:15 -0000 (Thu, 09 May 2024) EllapsedTime: 68.1 seconds RetCode: 0 Status: OK PackageFile: tidySpatialExperiment_1.0.0.tar.gz PackageFileSize: 842 KiB