Package: tidySpatialExperiment Version: 1.0.0 Command: chmod a+r tidySpatialExperiment -R && E:\biocbuild\bbs-3.19-bioc\R\bin\R.exe CMD build --keep-empty-dirs --no-resave-data tidySpatialExperiment StartedAt: 2024-10-16 22:20:26 -0400 (Wed, 16 Oct 2024) EndedAt: 2024-10-16 22:21:34 -0400 (Wed, 16 Oct 2024) EllapsedTime: 68.0 seconds RetCode: 0 Status: OK PackageFile: tidySpatialExperiment_1.0.0.tar.gz PackageFileSize: 805.1 KiB