Package: tidySummarizedExperiment Version: 1.14.0 Command: /Library/Frameworks/R.framework/Resources/bin/R CMD build --keep-empty-dirs --no-resave-data tidySummarizedExperiment StartedAt: 2024-10-17 10:42:10 -0400 (Thu, 17 Oct 2024) EndedAt: 2024-10-17 10:43:04 -0400 (Thu, 17 Oct 2024) EllapsedTime: 53.6 seconds RetCode: 0 Status: OK PackageFile: tidySummarizedExperiment_1.14.0.tar.gz PackageFileSize: 363.4 KiB