Package: tigre Version: 1.58.0 Command: rm -rf tigre.buildbin-libdir && mkdir tigre.buildbin-libdir && /Users/biocbuild/BBS/utils/build-universal.sh tigre_1.58.0.tar.gz /Library/Frameworks/R.framework/Resources/bin/R tigre.buildbin-libdir StartedAt: 2024-06-11 13:33:10 -0400 (Tue, 11 Jun 2024) EndedAt: 2024-06-11 13:33:56 -0400 (Tue, 11 Jun 2024) EllapsedTime: 45.8 seconds RetCode: 0 Status: OK PackageFile: tigre_1.58.0.tgz PackageFileSize: 972.6 KiB